Package: KEGGlincs Version: 1.35.0 Command: /home/biocbuild/R/R/bin/R CMD build --keep-empty-dirs --no-resave-data KEGGlincs StartedAt: 2025-10-21 00:44:50 -0000 (Tue, 21 Oct 2025) EndedAt: 2025-10-21 00:45:55 -0000 (Tue, 21 Oct 2025) EllapsedTime: 65.0 seconds RetCode: 0 Status: OK PackageFile: KEGGlincs_1.35.0.tar.gz PackageFileSize: 4.215 MiB