Package: KEGGgraph Version: 1.69.0 Command: /home/biocbuild/bbs-3.22-bioc/R/bin/R CMD INSTALL KEGGgraph StartedAt: 2025-10-02 15:15:30 -0400 (Thu, 02 Oct 2025) EndedAt: 2025-10-02 15:15:35 -0400 (Thu, 02 Oct 2025) EllapsedTime: 5.6 seconds RetCode: 0 Status: OK