Package: KEGGgraph Version: 1.69.0 Command: /home/biocbuild/bbs-3.22-bioc/R/bin/R CMD build --keep-empty-dirs --no-resave-data --md5 KEGGgraph StartedAt: 2025-10-02 18:19:40 -0400 (Thu, 02 Oct 2025) EndedAt: 2025-10-02 18:20:19 -0400 (Thu, 02 Oct 2025) EllapsedTime: 39.0 seconds RetCode: 0 Status: OK PackageFile: KEGGgraph_1.69.0.tar.gz PackageFileSize: 1.317 MiB