Package: KEGGREST Version: 1.49.1 Command: /home/biocbuild/bbs-3.22-bioc/R/bin/R CMD build --keep-empty-dirs --no-resave-data --md5 KEGGREST StartedAt: 2025-10-02 18:19:55 -0400 (Thu, 02 Oct 2025) EndedAt: 2025-10-02 18:20:29 -0400 (Thu, 02 Oct 2025) EllapsedTime: 34.0 seconds RetCode: 0 Status: OK PackageFile: KEGGREST_1.49.1.tar.gz PackageFileSize: 234.1 KiB