Package: KEGGREST Version: 1.49.0 Command: /Library/Frameworks/R.framework/Resources/bin/R CMD check --install=check:KEGGREST.install-out.txt --library=/Library/Frameworks/R.framework/Resources/library --no-vignettes --timings KEGGREST_1.49.0.tar.gz StartedAt: 2025-05-09 20:09:41 -0400 (Fri, 09 May 2025) EndedAt: 2025-05-09 20:12:23 -0400 (Fri, 09 May 2025) EllapsedTime: 161.2 seconds RetCode: 1 Status: ERROR CheckDir: KEGGREST.Rcheck Warnings: NA