Package: KEGGREST Version: 1.49.0 Command: rm -rf KEGGREST.buildbin-libdir && mkdir KEGGREST.buildbin-libdir && /Users/biocbuild/BBS/utils/build-universal.sh KEGGREST_1.49.0.tar.gz /Library/Frameworks/R.framework/Resources/bin/R KEGGREST.buildbin-libdir StartedAt: 2025-05-09 22:45:19 -0400 (Fri, 09 May 2025) EndedAt: 2025-05-09 22:45:24 -0400 (Fri, 09 May 2025) EllapsedTime: 5.1 seconds RetCode: 0 Status: OK PackageFile: KEGGREST_1.49.0.tgz PackageFileSize: 397.7 KiB