Package: KCsmart Version: 2.67.0 Command: chmod a+r KCsmart -R && F:\biocbuild\bbs-3.22-bioc\R\bin\R.exe CMD build --keep-empty-dirs --no-resave-data KCsmart StartedAt: 2025-08-14 21:04:13 -0400 (Thu, 14 Aug 2025) EndedAt: 2025-08-14 21:04:57 -0400 (Thu, 14 Aug 2025) EllapsedTime: 44.2 seconds RetCode: 0 Status: OK PackageFile: KCsmart_2.67.0.tar.gz PackageFileSize: 1.722 MiB