Package: IsoCorrectoRGUI Version: 1.25.0 Command: /home/biocbuild/bbs-3.22-bioc/R/bin/R CMD check --install=check:IsoCorrectoRGUI.install-out.txt --library=/home/biocbuild/bbs-3.22-bioc/R/site-library --timings IsoCorrectoRGUI_1.25.0.tar.gz StartedAt: 2025-10-25 00:53:01 -0400 (Sat, 25 Oct 2025) EndedAt: 2025-10-25 00:53:35 -0400 (Sat, 25 Oct 2025) EllapsedTime: 34.0 seconds RetCode: 0 Status: OK CheckDir: IsoCorrectoRGUI.Rcheck Warnings: 0