Package: IsoCorrectoRGUI Version: 1.23.0 Command: /Library/Frameworks/R.framework/Resources/bin/R CMD INSTALL IsoCorrectoRGUI StartedAt: 2025-02-05 15:05:18 -0500 (Wed, 05 Feb 2025) EndedAt: 2025-02-05 15:05:21 -0500 (Wed, 05 Feb 2025) EllapsedTime: 2.4 seconds RetCode: 0 Status: OK