Package: IsoCorrectoRGUI Version: 1.23.0 Command: /Library/Frameworks/R.framework/Resources/bin/R CMD build --keep-empty-dirs --no-resave-data IsoCorrectoRGUI StartedAt: 2025-02-05 16:45:27 -0500 (Wed, 05 Feb 2025) EndedAt: 2025-02-05 16:45:31 -0500 (Wed, 05 Feb 2025) EllapsedTime: 4.0 seconds RetCode: 0 Status: OK PackageFile: IsoCorrectoRGUI_1.23.0.tar.gz PackageFileSize: 439.3 KiB