Package: IsoCorrectoRGUI Version: 1.23.0 Command: rm -rf IsoCorrectoRGUI.buildbin-libdir && mkdir IsoCorrectoRGUI.buildbin-libdir && /Users/biocbuild/BBS/utils/build-universal.sh IsoCorrectoRGUI_1.23.0.tar.gz /Library/Frameworks/R.framework/Resources/bin/R IsoCorrectoRGUI.buildbin-libdir StartedAt: 2025-01-31 22:20:37 -0500 (Fri, 31 Jan 2025) EndedAt: 2025-01-31 22:20:41 -0500 (Fri, 31 Jan 2025) EllapsedTime: 4.1 seconds RetCode: 0 Status: OK PackageFile: IsoCorrectoRGUI_1.23.0.tgz PackageFileSize: 455.8 KiB