Package: IsoCorrectoR Version: 1.27.0 Command: chmod a+r IsoCorrectoR -R && F:\biocbuild\bbs-3.22-bioc\R\bin\R.exe CMD build --keep-empty-dirs --no-resave-data IsoCorrectoR StartedAt: 2025-08-14 21:01:49 -0400 (Thu, 14 Aug 2025) EndedAt: 2025-08-14 21:03:24 -0400 (Thu, 14 Aug 2025) EllapsedTime: 95.0 seconds RetCode: 0 Status: OK PackageFile: IsoCorrectoR_1.27.0.tar.gz PackageFileSize: 1.662 MiB