Package: IsoCorrectoR Version: 1.25.0 Maintainer: Christian Kohler MaintainerEmail: christian.kohler at ur.de git_url: https://git.bioconductor.org/packages/IsoCorrectoR git_branch: devel git_last_commit: b3c775a git_last_commit_date: 2024-10-29 10:31:40 -0500 (Tue, 29 Oct 2024)