Package: IsoBayes Version: 1.7.1 Command: /home/biocbuild/bbs-3.22-bioc/R/bin/R CMD build --keep-empty-dirs --no-resave-data --md5 IsoBayes StartedAt: 2025-10-19 18:18:19 -0400 (Sun, 19 Oct 2025) EndedAt: 2025-10-19 18:20:12 -0400 (Sun, 19 Oct 2025) EllapsedTime: 113.2 seconds RetCode: 0 Status: OK PackageFile: IsoBayes_1.7.1.tar.gz PackageFileSize: 1.797 MiB