Package: InteractiveComplexHeatmap Version: 1.15.0 Command: /home/biocbuild/bbs-3.21-bioc/R/bin/R CMD INSTALL InteractiveComplexHeatmap StartedAt: 2025-02-03 15:23:33 -0500 (Mon, 03 Feb 2025) EndedAt: 2025-02-03 15:23:45 -0500 (Mon, 03 Feb 2025) EllapsedTime: 12.0 seconds RetCode: 0 Status: OK