Package: InteractiveComplexHeatmap Version: 1.15.0 Command: /Library/Frameworks/R.framework/Resources/bin/R CMD INSTALL InteractiveComplexHeatmap StartedAt: 2025-02-03 15:50:16 -0500 (Mon, 03 Feb 2025) EndedAt: 2025-02-03 15:50:21 -0500 (Mon, 03 Feb 2025) EllapsedTime: 5.2 seconds RetCode: 0 Status: OK