Package: InteractionSet Version: 1.37.1 Command: /home/biocbuild/R/R/bin/R CMD INSTALL InteractionSet StartedAt: 2025-10-20 20:35:50 -0000 (Mon, 20 Oct 2025) EndedAt: 2025-10-20 20:36:52 -0000 (Mon, 20 Oct 2025) EllapsedTime: 62.2 seconds RetCode: 0 Status: OK