Package: InteractionSet Version: 1.37.1 Command: /home/biocbuild/R/R/bin/R CMD build --keep-empty-dirs --no-resave-data InteractionSet StartedAt: 2025-10-21 00:38:15 -0000 (Tue, 21 Oct 2025) EndedAt: 2025-10-21 00:39:35 -0000 (Tue, 21 Oct 2025) EllapsedTime: 80.0 seconds RetCode: 0 Status: OK PackageFile: InteractionSet_1.37.1.tar.gz PackageFileSize: 457.5 KiB