Package: IntEREst Version: 1.31.1 Maintainer: Ali Oghabian MaintainerEmail: Ali.Oghabian at Helsinki.Fi git_url: https://git.bioconductor.org/packages/IntEREst git_branch: devel git_last_commit: ee878ab git_last_commit_date: 2025-02-14 03:01:50 -0500 (Fri, 14 Feb 2025)