Package: Informeasure Version: 1.19.0 Command: chmod a+r Informeasure -R && F:\biocbuild\bbs-3.22-bioc\R\bin\R.exe CMD build --keep-empty-dirs --no-resave-data Informeasure StartedAt: 2025-08-14 20:56:52 -0400 (Thu, 14 Aug 2025) EndedAt: 2025-08-14 20:57:15 -0400 (Thu, 14 Aug 2025) EllapsedTime: 23.5 seconds RetCode: 0 Status: OK PackageFile: Informeasure_1.19.0.tar.gz PackageFileSize: 276.6 KiB