Package: InTAD Version: 1.27.0 Command: E:\biocbuild\bbs-3.21-bioc\R\bin\R.exe CMD check --no-multiarch --install=check:InTAD.install-out.txt --library=E:\biocbuild\bbs-3.21-bioc\R\library --no-vignettes --timings InTAD_1.27.0.tar.gz StartedAt: 2025-02-04 02:37:09 -0500 (Tue, 04 Feb 2025) EndedAt: 2025-02-04 02:43:08 -0500 (Tue, 04 Feb 2025) EllapsedTime: 359.9 seconds RetCode: 0 Status: OK CheckDir: InTAD.Rcheck Warnings: 0