Package: InTAD Version: 1.27.0 Command: rm -rf InTAD.buildbin-libdir && mkdir InTAD.buildbin-libdir && E:\biocbuild\bbs-3.21-bioc\R\bin\R.exe CMD INSTALL --build --library=InTAD.buildbin-libdir InTAD_1.27.0.tar.gz StartedAt: 2025-02-04 08:11:55 -0500 (Tue, 04 Feb 2025) EndedAt: 2025-02-04 08:12:45 -0500 (Tue, 04 Feb 2025) EllapsedTime: 49.9 seconds RetCode: 0 Status: OK PackageFile: InTAD_1.27.0.zip PackageFileSize: 1.149 MiB