Package: InTAD Version: 1.27.0 Command: /home/biocbuild/bbs-3.21-bioc/R/bin/R CMD check --install=check:InTAD.install-out.txt --library=/home/biocbuild/bbs-3.21-bioc/R/site-library --timings InTAD_1.27.0.tar.gz StartedAt: 2025-02-03 23:28:57 -0500 (Mon, 03 Feb 2025) EndedAt: 2025-02-03 23:34:59 -0500 (Mon, 03 Feb 2025) EllapsedTime: 362.4 seconds RetCode: 0 Status: OK CheckDir: InTAD.Rcheck Warnings: 0