Package: InTAD Version: 1.27.0 Command: /Library/Frameworks/R.framework/Resources/bin/R CMD build --keep-empty-dirs --no-resave-data InTAD StartedAt: 2025-02-03 17:10:54 -0500 (Mon, 03 Feb 2025) EndedAt: 2025-02-03 17:12:03 -0500 (Mon, 03 Feb 2025) EllapsedTime: 68.5 seconds RetCode: 0 Status: OK PackageFile: InTAD_1.27.0.tar.gz PackageFileSize: 1.213 MiB