Package: InTAD Version: 1.27.0 Command: /Library/Frameworks/R.framework/Resources/bin/R CMD INSTALL InTAD StartedAt: 2025-02-03 16:02:30 -0500 (Mon, 03 Feb 2025) EndedAt: 2025-02-03 16:02:45 -0500 (Mon, 03 Feb 2025) EllapsedTime: 15.3 seconds RetCode: 0 Status: OK