Package: InPAS Version: 2.17.1 Command: rm -rf InPAS.buildbin-libdir && mkdir InPAS.buildbin-libdir && F:\biocbuild\bbs-3.22-bioc\R\bin\R.exe CMD INSTALL --build --library=InPAS.buildbin-libdir InPAS_2.17.1.tar.gz StartedAt: 2025-08-15 10:30:41 -0400 (Fri, 15 Aug 2025) EndedAt: 2025-08-15 10:32:11 -0400 (Fri, 15 Aug 2025) EllapsedTime: 90.0 seconds RetCode: 0 Status: OK PackageFile: InPAS_2.17.1.zip PackageFileSize: 3.318 MiB