Package: InPAS Version: 2.15.2 Command: /home/biocbuild/bbs-3.21-bioc/R/bin/R CMD check --install=check:InPAS.install-out.txt --library=/home/biocbuild/bbs-3.21-bioc/R/site-library --timings InPAS_2.15.2.tar.gz StartedAt: 2025-02-16 23:06:27 -0500 (Sun, 16 Feb 2025) EndedAt: 2025-02-16 23:14:43 -0500 (Sun, 16 Feb 2025) EllapsedTime: 495.6 seconds RetCode: 0 Status: WARNINGS CheckDir: InPAS.Rcheck Warnings: 1