Package: InPAS Version: 2.15.2 Command: /Library/Frameworks/R.framework/Resources/bin/R CMD check --install=check:InPAS.install-out.txt --library=/Library/Frameworks/R.framework/Resources/library --no-vignettes --timings InPAS_2.15.2.tar.gz StartedAt: 2025-02-16 21:00:16 -0500 (Sun, 16 Feb 2025) EndedAt: 2025-02-16 21:06:54 -0500 (Sun, 16 Feb 2025) EllapsedTime: 397.8 seconds RetCode: 0 Status: WARNINGS CheckDir: InPAS.Rcheck Warnings: 1