Package: InPAS Version: 2.15.2 Command: /home/biocbuild/R/R/bin/R CMD INSTALL InPAS StartedAt: 2025-01-29 20:00:41 -0000 (Wed, 29 Jan 2025) EndedAt: 2025-01-29 20:01:44 -0000 (Wed, 29 Jan 2025) EllapsedTime: 63.0 seconds RetCode: 0 Status: OK