Package: InPAS Version: 2.15.2 Command: /home/biocbuild/R/R/bin/R CMD build --keep-empty-dirs --no-resave-data InPAS StartedAt: 2025-01-28 23:45:06 -0000 (Tue, 28 Jan 2025) EndedAt: 2025-01-28 23:49:24 -0000 (Tue, 28 Jan 2025) EllapsedTime: 258.1 seconds RetCode: 0 Status: OK PackageFile: InPAS_2.15.2.tar.gz PackageFileSize: 1.368 MiB