Package: Icens Version: 1.81.0 Command: /home/biocbuild/bbs-3.22-bioc/R/bin/R CMD INSTALL Icens StartedAt: 2025-10-12 15:11:15 -0400 (Sun, 12 Oct 2025) EndedAt: 2025-10-12 15:11:21 -0400 (Sun, 12 Oct 2025) EllapsedTime: 6.0 seconds RetCode: 0 Status: OK