Package: Icens Version: 1.81.0 Command: /Library/Frameworks/R.framework/Resources/bin/R CMD check --install=check:Icens.install-out.txt --library=/Library/Frameworks/R.framework/Resources/library --no-vignettes --timings Icens_1.81.0.tar.gz StartedAt: 2025-05-06 20:05:59 -0400 (Tue, 06 May 2025) EndedAt: 2025-05-06 20:06:22 -0400 (Tue, 06 May 2025) EllapsedTime: 23.3 seconds RetCode: 0 Status: OK CheckDir: Icens.Rcheck Warnings: 0