Package: Ibex Version: 0.99.31 Command: /home/biocbuild/bbs-3.22-bioc/R/bin/R CMD INSTALL Ibex StartedAt: 2025-10-10 15:37:05 -0400 (Fri, 10 Oct 2025) EndedAt: 2025-10-10 15:37:37 -0400 (Fri, 10 Oct 2025) EllapsedTime: 32.0 seconds RetCode: 0 Status: OK