Package: Ibex Version: 0.99.31 Command: /home/biocbuild/bbs-3.22-bioc/R/bin/R CMD build --keep-empty-dirs --no-resave-data --md5 Ibex StartedAt: 2025-10-10 18:20:22 -0400 (Fri, 10 Oct 2025) EndedAt: 2025-10-10 18:22:04 -0400 (Fri, 10 Oct 2025) EllapsedTime: 102.1 seconds RetCode: 0 Status: OK PackageFile: Ibex_0.99.31.tar.gz PackageFileSize: 4.026 MiB