Package: Ibex Version: 1.1.0 Command: /home/biocbuild/bbs-3.23-bioc/R/bin/R CMD INSTALL Ibex StartedAt: 2025-11-06 15:23:41 -0500 (Thu, 06 Nov 2025) EndedAt: 2025-11-06 15:24:13 -0500 (Thu, 06 Nov 2025) EllapsedTime: 32.0 seconds RetCode: 0 Status: OK