Package: Ibex Version: 1.1.0 Command: /home/biocbuild/bbs-3.23-bioc/R/bin/R CMD build --keep-empty-dirs --no-resave-data Ibex StartedAt: 2025-11-06 18:03:49 -0500 (Thu, 06 Nov 2025) EndedAt: 2025-11-06 18:06:00 -0500 (Thu, 06 Nov 2025) EllapsedTime: 131.2 seconds RetCode: 0 Status: OK PackageFile: Ibex_1.1.0.tar.gz PackageFileSize: 4.026 MiB