Package: Ibex Version: 0.99.34 Command: /Library/Frameworks/R.framework/Resources/bin/R CMD INSTALL Ibex StartedAt: 2025-10-26 15:12:48 -0400 (Sun, 26 Oct 2025) EndedAt: 2025-10-26 15:13:02 -0400 (Sun, 26 Oct 2025) EllapsedTime: 13.4 seconds RetCode: 0 Status: OK