Package: Ibex Version: 0.99.34 Command: /Library/Frameworks/R.framework/Resources/bin/R CMD build --keep-empty-dirs --no-resave-data Ibex StartedAt: 2025-10-27 16:43:26 -0400 (Mon, 27 Oct 2025) EndedAt: 2025-10-27 16:44:38 -0400 (Mon, 27 Oct 2025) EllapsedTime: 71.8 seconds RetCode: 0 Status: OK PackageFile: Ibex_0.99.34.tar.gz PackageFileSize: 4.062 MiB