Package: IWTomics Version: 1.31.0 Command: /home/biocbuild/R/R/bin/R CMD INSTALL IWTomics StartedAt: 2025-01-29 20:37:18 -0000 (Wed, 29 Jan 2025) EndedAt: 2025-01-29 20:37:41 -0000 (Wed, 29 Jan 2025) EllapsedTime: 23.5 seconds RetCode: 0 Status: OK