Package: IVAS Version: 2.29.1 Command: chmod a+r IVAS -R && F:\biocbuild\bbs-3.22-bioc\R\bin\R.exe CMD build --keep-empty-dirs --no-resave-data IVAS StartedAt: 2025-08-14 21:02:57 -0400 (Thu, 14 Aug 2025) EndedAt: 2025-08-14 21:04:31 -0400 (Thu, 14 Aug 2025) EllapsedTime: 94.2 seconds RetCode: 0 Status: OK PackageFile: IVAS_2.29.1.tar.gz PackageFileSize: 244.9 KiB