Package: IVAS Version: 2.29.1 Command: rm -rf IVAS.buildbin-libdir && mkdir IVAS.buildbin-libdir && F:\biocbuild\bbs-3.22-bioc\R\bin\R.exe CMD INSTALL --build --library=IVAS.buildbin-libdir IVAS_2.29.1.tar.gz StartedAt: 2025-08-15 10:33:13 -0400 (Fri, 15 Aug 2025) EndedAt: 2025-08-15 10:34:05 -0400 (Fri, 15 Aug 2025) EllapsedTime: 52.5 seconds RetCode: 0 Status: OK PackageFile: IVAS_2.29.1.zip PackageFileSize: 677 KiB