Package: IVAS Version: 2.29.1 Command: /home/biocbuild/bbs-3.22-bioc/R/bin/R CMD INSTALL IVAS StartedAt: 2025-10-03 15:43:32 -0400 (Fri, 03 Oct 2025) EndedAt: 2025-10-03 15:44:14 -0400 (Fri, 03 Oct 2025) EllapsedTime: 41.7 seconds RetCode: 0 Status: OK