Package: IVAS Version: 2.29.0 Maintainer: Seonggyun Han MaintainerEmail: hangost at ssu.ac.kr git_url: https://git.bioconductor.org/packages/IVAS git_branch: devel git_last_commit: 62156f8 git_last_commit_date: 2025-04-15 10:37:40 -0400 (Tue, 15 Apr 2025)