Package: ITALICS Version: 2.69.0 Command: rm -rf ITALICS.buildbin-libdir && mkdir ITALICS.buildbin-libdir && F:\biocbuild\bbs-3.22-bioc\R\bin\R.exe CMD INSTALL --build --library=ITALICS.buildbin-libdir ITALICS_2.69.0.tar.gz StartedAt: 2025-08-15 10:32:59 -0400 (Fri, 15 Aug 2025) EndedAt: 2025-08-15 10:33:43 -0400 (Fri, 15 Aug 2025) EllapsedTime: 44.7 seconds RetCode: 0 Status: OK PackageFile: ITALICS_2.69.0.zip PackageFileSize: 414.5 KiB