Package: ITALICS Version: 2.69.0 Maintainer: Guillem Rigaill MaintainerEmail: italics at curie.fr git_url: https://git.bioconductor.org/packages/ITALICS git_branch: devel git_last_commit: 8377060 git_last_commit_date: 2025-04-15 09:42:40 -0400 (Tue, 15 Apr 2025)