Package: ISoLDE Version: 1.35.0 Command: rm -rf ISoLDE.buildbin-libdir && mkdir ISoLDE.buildbin-libdir && E:\biocbuild\bbs-3.21-bioc\R\bin\R.exe CMD INSTALL --build --library=ISoLDE.buildbin-libdir ISoLDE_1.35.0.tar.gz StartedAt: 2025-02-17 07:46:20 -0500 (Mon, 17 Feb 2025) EndedAt: 2025-02-17 07:46:38 -0500 (Mon, 17 Feb 2025) EllapsedTime: 18.0 seconds RetCode: 0 Status: OK PackageFile: ISoLDE_1.35.0.zip PackageFileSize: 1.346 MiB