Package: ISoLDE Version: 1.37.0 Command: /home/biocbuild/bbs-3.22-bioc/R/bin/R CMD INSTALL ISoLDE StartedAt: 2025-10-28 15:01:35 -0400 (Tue, 28 Oct 2025) EndedAt: 2025-10-28 15:01:42 -0400 (Tue, 28 Oct 2025) EllapsedTime: 7.8 seconds RetCode: 0 Status: OK