Package: ISoLDE Version: 1.37.0 Maintainer: Christelle Reynès MaintainerEmail: christelle.reynes at igf.cnrs.fr git_url: https://git.bioconductor.org/packages/ISoLDE git_branch: devel git_last_commit: 7c9972d git_last_commit_date: 2025-04-15 10:59:54 -0400 (Tue, 15 Apr 2025)