Package: ISLET Version: 1.11.0 Command: /home/biocbuild/bbs-3.22-bioc/R/bin/R CMD INSTALL ISLET StartedAt: 2025-10-01 15:21:43 -0400 (Wed, 01 Oct 2025) EndedAt: 2025-10-01 15:22:14 -0400 (Wed, 01 Oct 2025) EllapsedTime: 30.6 seconds RetCode: 0 Status: OK