Package: ISLET Version: 1.11.0 Command: rm -rf ISLET.buildbin-libdir && mkdir ISLET.buildbin-libdir && /Users/biocbuild/BBS/utils/build-universal.sh ISLET_1.11.0.tar.gz /Library/Frameworks/R.framework/Resources/bin/R ISLET.buildbin-libdir StartedAt: 2025-05-28 00:45:06 -0400 (Wed, 28 May 2025) EndedAt: 2025-05-28 00:45:44 -0400 (Wed, 28 May 2025) EllapsedTime: 37.9 seconds RetCode: 0 Status: OK PackageFile: ISLET_1.11.0.tgz PackageFileSize: 1.522 MiB